BEGIN:VCALENDAR
VERSION:2.0
PRODID:-//Sophicity/Tribune/Brookland, AR
BEGIN:VEVENT
DTSTAMP:20260420T065029Z
UID:66f6ac41-c72f-4420-a617-b4f7c9effa58-3846
DTSTART:20171111T050000Z
DTEND:20171111T060000Z
CLASS:PUBLIC
SUMMARY:Veteran's Day
END:VEVENT
END:VCALENDAR
